BEGIN:VCALENDAR
VERSION:2.0
PRODID:-//Kings and Queens - ECPv6.15.17.1//NONSGML v1.0//EN
CALSCALE:GREGORIAN
METHOD:PUBLISH
X-WR-CALNAME:Kings and Queens
X-ORIGINAL-URL:https://kingsandqueens.fi
X-WR-CALDESC:Tapahtumat Kings and Queens
REFRESH-INTERVAL;VALUE=DURATION:PT1H
X-Robots-Tag:noindex
X-PUBLISHED-TTL:PT1H
BEGIN:VTIMEZONE
TZID:Europe/Helsinki
BEGIN:DAYLIGHT
TZOFFSETFROM:+0200
TZOFFSETTO:+0300
TZNAME:EEST
DTSTART:20250330T010000
END:DAYLIGHT
BEGIN:STANDARD
TZOFFSETFROM:+0300
TZOFFSETTO:+0200
TZNAME:EET
DTSTART:20251026T010000
END:STANDARD
BEGIN:DAYLIGHT
TZOFFSETFROM:+0200
TZOFFSETTO:+0300
TZNAME:EEST
DTSTART:20260329T010000
END:DAYLIGHT
BEGIN:STANDARD
TZOFFSETFROM:+0300
TZOFFSETTO:+0200
TZNAME:EET
DTSTART:20261025T010000
END:STANDARD
BEGIN:DAYLIGHT
TZOFFSETFROM:+0200
TZOFFSETTO:+0300
TZNAME:EEST
DTSTART:20270328T010000
END:DAYLIGHT
BEGIN:STANDARD
TZOFFSETFROM:+0300
TZOFFSETTO:+0200
TZNAME:EET
DTSTART:20271031T010000
END:STANDARD
END:VTIMEZONE
BEGIN:VEVENT
DTSTART;TZID=Europe/Helsinki:20260220T190000
DTEND;TZID=Europe/Helsinki:20260220T210000
DTSTAMP:20260418T195739
CREATED:20260210T055420Z
LAST-MODIFIED:20260210T055420Z
UID:10000094-1771614000-1771621200@kingsandqueens.fi
SUMMARY:Olut-tasting
DESCRIPTION:REVENANT OLUT-TASTING PE 20.2. KLO 19Kuopion alkuvuoden kovimmat kemmakat pubilla!! \nKuopion omat pojat\, Revenant Brewing Project\, isännöivät oluen katkuista iltamaa perjantaina Kings and Queensin tunnelmallisessa yläkerrassa perjantaina 20.2. klo 19! Maistossa on kerralla jopa viisi uutuutta ja yksi jo tuttu janon sammuttaja.Illan kattaus | Annokset 1\,5-2dlPils 5\,4%Hell 5\,2%Obelisk 2026 Hazy DIPA 8\,4%Coil (w. Azvex) Hazy DIPA 8\,0%Decode Hazy IPA 7\,0%Duality (w. Põhjala) Imperial Stout 12\,0%Varaa paikkasi nopeasti!Hinta: 35€/hlö (Kuopion Olutklubi-jäsenet 30€)Sitovat ilmoittautumiset maililla: luukas.paavola@kingsandqueens.fiTervetuloa!
URL:https://kingsandqueens.fi/tapahtumat/olut-tasting/
LOCATION:Kings and Queens\, Kauppakatu 29\, Kuopio\, 70100\, Finland
ATTACH;FMTTYPE=image/jpeg:https://kingsandqueens.fi/wp-content/uploads/2026/02/626031658_17876061996494314_379861467800065398_n.jpg
END:VEVENT
END:VCALENDAR