BEGIN:VCALENDAR
VERSION:2.0
PRODID:-//Kings and Queens - ECPv6.15.17.1//NONSGML v1.0//EN
CALSCALE:GREGORIAN
METHOD:PUBLISH
X-WR-CALNAME:Kings and Queens
X-ORIGINAL-URL:https://kingsandqueens.fi
X-WR-CALDESC:Tapahtumat Kings and Queens
REFRESH-INTERVAL;VALUE=DURATION:PT1H
X-Robots-Tag:noindex
X-PUBLISHED-TTL:PT1H
BEGIN:VTIMEZONE
TZID:Europe/Helsinki
BEGIN:DAYLIGHT
TZOFFSETFROM:+0200
TZOFFSETTO:+0300
TZNAME:EEST
DTSTART:20250330T010000
END:DAYLIGHT
BEGIN:STANDARD
TZOFFSETFROM:+0300
TZOFFSETTO:+0200
TZNAME:EET
DTSTART:20251026T010000
END:STANDARD
BEGIN:DAYLIGHT
TZOFFSETFROM:+0200
TZOFFSETTO:+0300
TZNAME:EEST
DTSTART:20260329T010000
END:DAYLIGHT
BEGIN:STANDARD
TZOFFSETFROM:+0300
TZOFFSETTO:+0200
TZNAME:EET
DTSTART:20261025T010000
END:STANDARD
BEGIN:DAYLIGHT
TZOFFSETFROM:+0200
TZOFFSETTO:+0300
TZNAME:EEST
DTSTART:20270328T010000
END:DAYLIGHT
BEGIN:STANDARD
TZOFFSETFROM:+0300
TZOFFSETTO:+0200
TZNAME:EET
DTSTART:20271031T010000
END:STANDARD
END:VTIMEZONE
BEGIN:VEVENT
DTSTART;TZID=Europe/Helsinki:20260218T180000
DTEND;TZID=Europe/Helsinki:20260218T200000
DTSTAMP:20260420T003926
CREATED:20260211T110850Z
LAST-MODIFIED:20260211T110850Z
UID:10000095-1771437600-1771444800@kingsandqueens.fi
SUMMARY:TIKKAA & BISSEE – yhdessä Elevis DC kanssa!
DESCRIPTION:Kiinnostaisiko darts\, mutta et ole koskaan uskaltanut kokeilla?Tai oletko heittänyt joskus\, mutta haluaisit oppia lisää rennossa porukassa?\n\nNyt siihen on täydellinen tilaisuus!\n\nTikkaa & Bissee -illassa pääset tutustumaan dartsin maailmaan matalalla kynnyksellä yhdessä kuopiolaisen darts-seuran Elevis DC kanssa.\n\nIllan aikana:\n– Opastetaan dartsin perusteet– Käydään läpi heittotekniikkaa ja pelien säännöt– Annetaan vinkkejä kehittymiseen\n– Pääset kokeilemaan turvallisesti ja ilman suorituspaineita\n\nElevis Darts Clubin porukka on paikalla neuvomassa\, sparraamassa ja kertomassa myös seuran toiminnasta – jos kipinä syttyy\, tiedät mihin suunnata seuraavaksi\n\nIlta sopii täysin aloittelijoille\, mutta myös niille\, jotka haluavat varmuutta ja varmuutta heittoihin. Ja samalla nautitaan Kings & Queensin virvokkeista\nRento meininki\, hyvää seuraa ja tikat lentämään!\n\nOta kaveri mukaan ja tule kokeilemaan – darts kuuluu kaikille!
URL:https://kingsandqueens.fi/tapahtumat/tikkaa-bissee-yhdessa-elevis-dc-kanssa/
LOCATION:Kings and Queens\, Kauppakatu 29\, Kuopio\, 70100\, Finland
ATTACH;FMTTYPE=image/jpeg:https://kingsandqueens.fi/wp-content/uploads/2026/02/testi-kings.jpg
END:VEVENT
END:VCALENDAR